BEGIN:VCALENDAR
VERSION:2.0
PRODID:-//wp-events-plugin.com//7.2.3.1//EN
TZID:Europe/Berlin
X-WR-TIMEZONE:Europe/Berlin
BEGIN:VEVENT
UID:0-1@dresden.gcl.de
DTSTART;TZID=Europe/Berlin:20230107T153000
DTEND;TZID=Europe/Berlin:20230107T170000
DTSTAMP:20230708T135608Z
URL:https://dresden.gcl.de/events/eucharistiefeier-fuer-unsere-verstorbene
 n/
SUMMARY:EUCHARISTIEFEIER FÜR UNSERE VERSTORBENEN
DESCRIPTION:
LOCATION:Haus HohenEichen\, Dresdner Straße 73\, Dresden\, Sachsen\, 01326
 \, Dresden\, Deutschland
X-APPLE-STRUCTURED-LOCATION;VALUE=URI;X-ADDRESS=Dresdner Straße 73\, Dresd
 en\, Sachsen\, 01326\, Dresden\, Deutschland;X-APPLE-RADIUS=100;X-TITLE=Ha
 us HohenEichen:geo:0,0
END:VEVENT
BEGIN:VTIMEZONE
TZID:Europe/Berlin
X-LIC-LOCATION:Europe/Berlin
BEGIN:STANDARD
DTSTART:20221030T020000
TZOFFSETFROM:+0200
TZOFFSETTO:+0100
TZNAME:CET
END:STANDARD
END:VTIMEZONE
END:VCALENDAR